BEGIN:VCALENDAR
VERSION:2.0
PRODID:-//Neurokliniken Waldeck - ECPv6.15.20//NONSGML v1.0//EN
CALSCALE:GREGORIAN
METHOD:PUBLISH
X-ORIGINAL-URL:https://nw.ideen-entfalten.com
X-WR-CALDESC:Veranstaltungen für Neurokliniken Waldeck
REFRESH-INTERVAL;VALUE=DURATION:PT1H
X-Robots-Tag:noindex
X-PUBLISHED-TTL:PT1H
BEGIN:VTIMEZONE
TZID:Europe/Berlin
BEGIN:DAYLIGHT
TZOFFSETFROM:+0100
TZOFFSETTO:+0200
TZNAME:CEST
DTSTART:20250330T010000
END:DAYLIGHT
BEGIN:STANDARD
TZOFFSETFROM:+0200
TZOFFSETTO:+0100
TZNAME:CET
DTSTART:20251026T010000
END:STANDARD
BEGIN:DAYLIGHT
TZOFFSETFROM:+0100
TZOFFSETTO:+0200
TZNAME:CEST
DTSTART:20260329T010000
END:DAYLIGHT
BEGIN:STANDARD
TZOFFSETFROM:+0200
TZOFFSETTO:+0100
TZNAME:CET
DTSTART:20261025T010000
END:STANDARD
BEGIN:DAYLIGHT
TZOFFSETFROM:+0100
TZOFFSETTO:+0200
TZNAME:CEST
DTSTART:20270328T010000
END:DAYLIGHT
BEGIN:STANDARD
TZOFFSETFROM:+0200
TZOFFSETTO:+0100
TZNAME:CET
DTSTART:20271031T010000
END:STANDARD
END:VTIMEZONE
BEGIN:VEVENT
DTSTART;TZID=Europe/Berlin:20260423T100000
DTEND;TZID=Europe/Berlin:20260423T140000
DTSTAMP:20260423T092448
CREATED:20260205T145249Z
LAST-MODIFIED:20260205T222641Z
UID:10000050-1776938400-1776952800@nw.ideen-entfalten.com
SUMMARY:Boys’ Day
DESCRIPTION:Wir zeigen Abläufe\, Behandlungsmethoden\, erklären den Beruf und zeigen unsere Ausbildungsmöglichkeiten. Unsere Praxisanleiter:innen zeigen den Schülern\, was das Aufgabengebiet eines Pflegefachmannes ist. Dabei finden Übungen an der Lehrpuppe statt. Außerdem können die Schüler mit einem Pflegefachmann sprechen\, der erläutern kann\, wie es ist als Mann in der vermeintlichen Frauendomäne zu arbeiten. \nDas Angebot ist geeignet für Schüler ab der 8. Klasse. \nAnmeldung ist möglich unter \nwww.boysday.de
URL:https://nw.ideen-entfalten.com/veranstaltung/boys-day/
LOCATION:Neurokliniken Waldeck (Mehrzweckraum)\, Dr.-Friedrich-Dittmann-Weg 1 (Mehrzweckraum)\, Schwaan\, Mecklenburg-Vorpommern\, 18258\, Germany
ATTACH;FMTTYPE=image/jpeg:https://nw.ideen-entfalten.com/wp-content/uploads/2023/02/2023-02-VERANSTALTUNG_Boys-e1737298354581.jpg
ORGANIZER;CN="Neurokliniken Waldeck":MAILTO:info@neurokliniken-waldeck.de
END:VEVENT
BEGIN:VEVENT
DTSTART;TZID=Europe/Berlin:20260429T150000
DTEND;TZID=Europe/Berlin:20260429T160000
DTSTAMP:20260423T092448
CREATED:20250710T215750Z
LAST-MODIFIED:20260209T133854Z
UID:10000089-1777474800-1777478400@nw.ideen-entfalten.com
SUMMARY:Beratung zur Vorsorgevollmacht  (Sozialdienst)
DESCRIPTION:
URL:https://nw.ideen-entfalten.com/veranstaltung/beratung-zur-vorsorgevollmacht-sozialdienst/
LOCATION:Neurokliniken Waldeck (Mehrzweckraum)\, Dr.-Friedrich-Dittmann-Weg 1 (Mehrzweckraum)\, Schwaan\, Mecklenburg-Vorpommern\, 18258\, Germany
ATTACH;FMTTYPE=image/webp:https://nw.ideen-entfalten.com/wp-content/uploads/2024/09/2024_Header_Sozialdienst-e1737238680264.webp
ORGANIZER;CN="Neurokliniken Waldeck":MAILTO:info@neurokliniken-waldeck.de
END:VEVENT
BEGIN:VEVENT
DTSTART;TZID=Europe/Berlin:20260506T150000
DTEND;TZID=Europe/Berlin:20260506T160000
DTSTAMP:20260423T092448
CREATED:20260210T222551Z
LAST-MODIFIED:20260325T193719Z
UID:10000107-1778079600-1778083200@nw.ideen-entfalten.com
SUMMARY:Die Ernährungspyramide - Schritt für Schritt zu gesunder Ernährung (Diätberatung)
DESCRIPTION:
URL:https://nw.ideen-entfalten.com/veranstaltung/die-ernaehrungspyramide-schritt-fuer-schritt-zu-gesunder-ernaehrung-diaetberatung/
LOCATION:Neurokliniken Waldeck (Mehrzweckraum)\, Dr.-Friedrich-Dittmann-Weg 1 (Mehrzweckraum)\, Schwaan\, Mecklenburg-Vorpommern\, 18258\, Germany
ATTACH;FMTTYPE=image/webp:https://nw.ideen-entfalten.com/wp-content/uploads/2026/02/©anaumenko_Ernaehrungspyramide.webp
ORGANIZER;CN="Neurokliniken Waldeck":MAILTO:info@neurokliniken-waldeck.de
END:VEVENT
BEGIN:VEVENT
DTSTART;TZID=Europe/Berlin:20260513T150000
DTEND;TZID=Europe/Berlin:20260513T160000
DTSTAMP:20260423T092448
CREATED:20250118T173757Z
LAST-MODIFIED:20260209T135105Z
UID:10000010-1778684400-1778688000@nw.ideen-entfalten.com
SUMMARY:Autofahren nach neurolog. Erkrankungen (Neuropsychologie)
DESCRIPTION:
URL:https://nw.ideen-entfalten.com/veranstaltung/autofahren-nach-neurolog-erkrankungen-neuropsychologie-2/
LOCATION:Neurokliniken Waldeck (Mehrzweckraum)\, Dr.-Friedrich-Dittmann-Weg 1 (Mehrzweckraum)\, Schwaan\, Mecklenburg-Vorpommern\, 18258\, Germany
ATTACH;FMTTYPE=image/jpeg:https://nw.ideen-entfalten.com/wp-content/uploads/2023/01/©-eshana_blue_AdobeStock_autofahren-e1737219868933.jpg
ORGANIZER;CN="Neurokliniken Waldeck":MAILTO:info@neurokliniken-waldeck.de
END:VEVENT
BEGIN:VEVENT
DTSTART;TZID=Europe/Berlin:20260520T150000
DTEND;TZID=Europe/Berlin:20260520T160000
DTSTAMP:20260423T092448
CREATED:20250118T171553Z
LAST-MODIFIED:20260209T130212Z
UID:10000097-1779289200-1779292800@nw.ideen-entfalten.com
SUMMARY:Schlaganfall (Arzt)
DESCRIPTION:
URL:https://nw.ideen-entfalten.com/veranstaltung/schlaganfall-arzt/2026-05-20/
LOCATION:Neurokliniken Waldeck (Mehrzweckraum)\, Dr.-Friedrich-Dittmann-Weg 1 (Mehrzweckraum)\, Schwaan\, Mecklenburg-Vorpommern\, 18258\, Germany
ATTACH;FMTTYPE=image/jpeg:https://nw.ideen-entfalten.com/wp-content/uploads/2023/01/©peterschreiber-media_AdobeStock_Schlaganfall-e1737220437335.jpg
ORGANIZER;CN="Neurokliniken Waldeck":MAILTO:info@neurokliniken-waldeck.de
END:VEVENT
BEGIN:VEVENT
DTSTART;TZID=Europe/Berlin:20260527T150000
DTEND;TZID=Europe/Berlin:20260527T160000
DTSTAMP:20260423T092448
CREATED:20250710T081119Z
LAST-MODIFIED:20260209T131902Z
UID:10000102-1779894000-1779897600@nw.ideen-entfalten.com
SUMMARY:Empfehlungen für Bewegung und Sport nach neurolog. Erkrankungen (Sporttherapie)
DESCRIPTION:
URL:https://nw.ideen-entfalten.com/veranstaltung/empfehlungen-fuer-bewegung-und-sport-nach-neurolog-erkrankungen-sporttherapie/2026-05-27/
LOCATION:Neurokliniken Waldeck (Mehrzweckraum)\, Dr.-Friedrich-Dittmann-Weg 1 (Mehrzweckraum)\, Schwaan\, Mecklenburg-Vorpommern\, 18258\, Germany
ATTACH;FMTTYPE=image/webp:https://nw.ideen-entfalten.com/wp-content/uploads/2023/09/Sporttherapie_Teaser-e1737238154879.webp
ORGANIZER;CN="Neurokliniken Waldeck":MAILTO:info@neurokliniken-waldeck.de
END:VEVENT
BEGIN:VEVENT
DTSTART;TZID=Europe/Berlin:20260603T150000
DTEND;TZID=Europe/Berlin:20260603T160000
DTSTAMP:20260423T092448
CREATED:20260210T223013Z
LAST-MODIFIED:20260325T193329Z
UID:10000110-1780498800-1780502400@nw.ideen-entfalten.com
SUMMARY:Gute Fette – schlechte Fette (Diätberatung)
DESCRIPTION:
URL:https://nw.ideen-entfalten.com/veranstaltung/gute-fette-schlechte-fette-diaetberatung/2026-06-03/
LOCATION:Neurokliniken Waldeck (Mehrzweckraum)\, Dr.-Friedrich-Dittmann-Weg 1 (Mehrzweckraum)\, Schwaan\, Mecklenburg-Vorpommern\, 18258\, Germany
ATTACH;FMTTYPE=image/webp:https://nw.ideen-entfalten.com/wp-content/uploads/2026/02/©Rochu_2008_GuteFette.webp
ORGANIZER;CN="Neurokliniken Waldeck":MAILTO:info@neurokliniken-waldeck.de
END:VEVENT
BEGIN:VEVENT
DTSTART;TZID=Europe/Berlin:20260604T150000
DTEND;TZID=Europe/Berlin:20260604T190000
DTSTAMP:20260423T092448
CREATED:20260323T222632Z
LAST-MODIFIED:20260323T223115Z
UID:10000111-1780585200-1780599600@nw.ideen-entfalten.com
SUMMARY:Karrieretag für Fachkräfte und ihre Familien
DESCRIPTION:In persönlichen Gesprächen mit den Kolleginnen und Kollegen erhalten die Interessenten Einblicke in ihre potenziellen Tätigkeitsfelder. Rundgänge durch die Klinik sind möglich. Bewerbungsunterlagen können direkt mitgebracht werden\, sind aber keine Voraussetzung. Eine Anmeldung ist nicht notwendig. Der Karrieretag findet in einem separaten Bereich statt und ist von der Rezeption aus erreichbar. \nGetreu dem familiären Arbeitsklima\, das in der neurologischen Fachklinik gelebt wird\, sind Interessierte auch mit ihren Familien gern gesehene Gäste. Neben einer Malecke wird es weitere Spielmöglichkeiten für Kinder geben. Und auch für hungrige Mägen ist vorgesorgt: Bratwurst frisch vom Grill sowie Kaffee und Kuchen sind inklusive. \nGute Argumente\, Teil des Neuroprofi-Teams zu werden\, gibt es viele. Die Neurokliniken Waldeck sind ein überregionales Zentrum für neurologische Rehabilitation und einer der größten Arbeitgeber in Schwaan. Vor allem in den Bereichen Pflege\, Therapie und ärztlicher Dienst sind neue Gesichter gern gesehen. \nTermin: Der Karrieretag der Neurokliniken Waldeck findet am 4. Juni 2026 von 15 bis 19 Uhr statt.
URL:https://nw.ideen-entfalten.com/veranstaltung/karrieretag-fuer-fachkraefte-und-ihre-familien/
LOCATION:Neurokliniken Waldeck (Mehrzweckraum)\, Dr.-Friedrich-Dittmann-Weg 1 (Mehrzweckraum)\, Schwaan\, Mecklenburg-Vorpommern\, 18258\, Germany
ATTACH;FMTTYPE=image/webp:https://nw.ideen-entfalten.com/wp-content/uploads/2026/03/2026-03_NEWS_Karrieretag.webp
ORGANIZER;CN="Neurokliniken Waldeck":MAILTO:info@neurokliniken-waldeck.de
END:VEVENT
BEGIN:VEVENT
DTSTART;TZID=Europe/Berlin:20260610T150000
DTEND;TZID=Europe/Berlin:20260610T160000
DTSTAMP:20260423T092448
CREATED:20250118T223318Z
LAST-MODIFIED:20260209T135154Z
UID:10000048-1781103600-1781107200@nw.ideen-entfalten.com
SUMMARY:Schmerz und Schmerzbewältigung (Neuropsychologie)
DESCRIPTION:
URL:https://nw.ideen-entfalten.com/veranstaltung/schmerz-und-schmerzbewaeltigung-neuropsychologie/
LOCATION:Neurokliniken Waldeck (Mehrzweckraum)\, Dr.-Friedrich-Dittmann-Weg 1 (Mehrzweckraum)\, Schwaan\, Mecklenburg-Vorpommern\, 18258\, Germany
ATTACH;FMTTYPE=image/jpeg:https://nw.ideen-entfalten.com/wp-content/uploads/2023/01/©-sudok1_AdobeStock_neuro-e1737239504133.jpg
ORGANIZER;CN="Neurokliniken Waldeck":MAILTO:info@neurokliniken-waldeck.de
END:VEVENT
BEGIN:VEVENT
DTSTART;TZID=Europe/Berlin:20260617T150000
DTEND;TZID=Europe/Berlin:20260617T160000
DTSTAMP:20260423T092448
CREATED:20250118T171553Z
LAST-MODIFIED:20260209T130212Z
UID:10000098-1781708400-1781712000@nw.ideen-entfalten.com
SUMMARY:Schlaganfall (Arzt)
DESCRIPTION:
URL:https://nw.ideen-entfalten.com/veranstaltung/schlaganfall-arzt/2026-06-17/
LOCATION:Neurokliniken Waldeck (Mehrzweckraum)\, Dr.-Friedrich-Dittmann-Weg 1 (Mehrzweckraum)\, Schwaan\, Mecklenburg-Vorpommern\, 18258\, Germany
ATTACH;FMTTYPE=image/jpeg:https://nw.ideen-entfalten.com/wp-content/uploads/2023/01/©peterschreiber-media_AdobeStock_Schlaganfall-e1737220437335.jpg
ORGANIZER;CN="Neurokliniken Waldeck":MAILTO:info@neurokliniken-waldeck.de
END:VEVENT
BEGIN:VEVENT
DTSTART;TZID=Europe/Berlin:20260624T150000
DTEND;TZID=Europe/Berlin:20260624T160000
DTSTAMP:20260423T092448
CREATED:20250118T211947Z
LAST-MODIFIED:20260209T132637Z
UID:10000104-1782313200-1782316800@nw.ideen-entfalten.com
SUMMARY:Schluckstörungen im Alter und bei neurologischen Erkrankungen (Logopädie)
DESCRIPTION:
URL:https://nw.ideen-entfalten.com/veranstaltung/schluckstoerungen-im-alter-und-bei-neurologischen-erkrankungen-logopaedie/2026-06-24/
LOCATION:Neurokliniken Waldeck (Mehrzweckraum)\, Dr.-Friedrich-Dittmann-Weg 1 (Mehrzweckraum)\, Schwaan\, Mecklenburg-Vorpommern\, 18258\, Germany
ATTACH;FMTTYPE=image/jpeg:https://nw.ideen-entfalten.com/wp-content/uploads/2022/07/2021-03-03_logopaedie-e1737234029596.jpg
ORGANIZER;CN="Neurokliniken Waldeck":MAILTO:info@neurokliniken-waldeck.de
END:VEVENT
BEGIN:VEVENT
DTSTART;TZID=Europe/Berlin:20261119T083000
DTEND;TZID=Europe/Berlin:20261119T160000
DTSTAMP:20260423T092448
CREATED:20260415T205446Z
LAST-MODIFIED:20260416T165057Z
UID:10000054-1795077000-1795104000@nw.ideen-entfalten.com
SUMMARY:Fortbildung Dekubitusmanagement
DESCRIPTION:Platz sichern!					\n100 Euro (inkl. Verpflegung in den Pausen)\n						Hier anmelden\n					Anmeldung\n				 \nZiel einer Pflegekraft ist es\, die Entstehung von Druckschädigungen und eines Dekubitus zu verhindern und bereits bestehende Druckschädigungen fachgerecht zu therapieren. Die Einschätzung des individuellen Dekubitusrisikos muss daher bei allen Patient:innen direkt am Aufnahmetag erfolgen. Bereits bestehende Wunden sind sofort zu dokumentieren und zu klassifizieren\, idealerweise mittels Fotodokumentation. Um das Dekubitusrisiko zu ermitteln\, wird eine Pflegeanamnese erhoben und die Patient:innen auf begünstigende Faktoren hin untersucht. \nUnabhängig davon\, ob Sie Wundmentoren oder Wundschwestern zu Ihren Pflegeteams zählen\, so ist das Wissen um das Thema Dekubitus für jede Pflegefachkraft essentiell.Mit unserer Fortbildung “Dekubitusmanagement” wollen wir für das Thema sensibilisieren und Ihnen weitere Hilfsmittel an die Hand geben\, die Sie in ihrer täglichen Arbeit an den Patient:innen nutzen können. \nÜber Ihr Interesse und den Austausch mit Ihnen freuen wir uns sehr. \nProgramminhalte\n\n\n										Expertenstandards\n									\n\n										Dekubitus erkennen\n									\n\n										Anatomie der Haut\n									\n\n										Gradeinteilung Dekubitus\n									\n\n										juristischer Hintergrund\n									\n\n										Risikoerfassung\n									\n\n										Therapiemöglichkeiten (z.B. Vakuumtherapie)\n									\n\n										Lagerung\n									\n\n										Überblick Hilfsmittel\n									\n\nFortbildungspunkte\nFür Ihre Teilnahme erhalten Sie ein Zertifikat und sechs Fortbildungspunkte nach den Richtlinien der Registrierungsstelle beruflich Pflegender. \nUnsere Fortbildung ist in theoretische Einheiten und praktische Übungen unterteilt. \nAnmeldeschluss:19. Oktober 2026
URL:https://nw.ideen-entfalten.com/veranstaltung/fortbildung-dekubitusmanagement/
LOCATION:Neurokliniken Waldeck (Mehrzweckraum)\, Dr.-Friedrich-Dittmann-Weg 1 (Mehrzweckraum)\, Schwaan\, Mecklenburg-Vorpommern\, 18258\, Germany
ATTACH;FMTTYPE=image/webp:https://nw.ideen-entfalten.com/wp-content/uploads/2024/09/2024_Abbinder_Pflege.webp
ORGANIZER;CN="Neurokliniken Waldeck":MAILTO:info@neurokliniken-waldeck.de
END:VEVENT
END:VCALENDAR