BEGIN:VCALENDAR
VERSION:2.0
PRODID:-//Neurokliniken Waldeck - ECPv6.15.20//NONSGML v1.0//EN
CALSCALE:GREGORIAN
METHOD:PUBLISH
X-WR-CALNAME:Neurokliniken Waldeck
X-ORIGINAL-URL:https://nw.ideen-entfalten.com
X-WR-CALDESC:Veranstaltungen für Neurokliniken Waldeck
REFRESH-INTERVAL;VALUE=DURATION:PT1H
X-Robots-Tag:noindex
X-PUBLISHED-TTL:PT1H
BEGIN:VTIMEZONE
TZID:Europe/Berlin
BEGIN:DAYLIGHT
TZOFFSETFROM:+0100
TZOFFSETTO:+0200
TZNAME:CEST
DTSTART:20250330T010000
END:DAYLIGHT
BEGIN:STANDARD
TZOFFSETFROM:+0200
TZOFFSETTO:+0100
TZNAME:CET
DTSTART:20251026T010000
END:STANDARD
BEGIN:DAYLIGHT
TZOFFSETFROM:+0100
TZOFFSETTO:+0200
TZNAME:CEST
DTSTART:20260329T010000
END:DAYLIGHT
BEGIN:STANDARD
TZOFFSETFROM:+0200
TZOFFSETTO:+0100
TZNAME:CET
DTSTART:20261025T010000
END:STANDARD
BEGIN:DAYLIGHT
TZOFFSETFROM:+0100
TZOFFSETTO:+0200
TZNAME:CEST
DTSTART:20270328T010000
END:DAYLIGHT
BEGIN:STANDARD
TZOFFSETFROM:+0200
TZOFFSETTO:+0100
TZNAME:CET
DTSTART:20271031T010000
END:STANDARD
END:VTIMEZONE
BEGIN:VEVENT
DTSTART;TZID=Europe/Berlin:20260124T110000
DTEND;TZID=Europe/Berlin:20260124T170000
DTSTAMP:20260423T171053
CREATED:20250124T213805Z
LAST-MODIFIED:20250124T215105Z
UID:6038-1769252400-1769274000@nw.ideen-entfalten.com
SUMMARY:Neurokliniken laden zum 3. Wintermarkt ein
DESCRIPTION:Angesprochen sind Familien und Besucher:innen außerhalb der Klinik sowie Mitarbeitende und Patient:innen mit ihren Angehörigen. Für alle wird etwas geboten. So gibt es an den Verkaufsständen unter anderem Trockenblumenkränze\, Dekoartikel\, Schmuck\, Kräuter sowie Kindersachen und Accessoires. Für die kleinen Besucher werden zudem Mitmach-Aktionen geboten wie zum Beispiel Beutel bemalen\, Bernstein schleifen und Schmuck herstellen. Nicht nur für die jungen\, sondern sicher auch für die älteren Semester interessant ist die Modelleisenbahn\, die ihre Runden durch die Klinik fahren wird. Zur Stärkung zwischendurch gibt es Glühwein und Deftiges mit Nudelvariationen von der Pastamanufaktur sowie Gulaschsuppe und Gegrilltes vom Klinik-Küchenchef Ingo. Für Naschkatzen werden Kuchen\, Crépes\, Slush-Eis und Co. serviert. Der Eintritt ist frei. Parkplätze stehen kostenfrei auf dem Klinikgelände zur Verfügung. Termin: 3. Wintermarkt der Neurokliniken Waldeck am Sonnabend\, 24. Januar 2026\, von 11.00 bis 17.00 Uhr. 								\n					\n		\n					\n		\n				\n						\n					\n			\n						\n					Rückblick – Impressionen
URL:https://nw.ideen-entfalten.com/veranstaltung/neurokliniken-laden-zum-3-wintermarkt-ein/
LOCATION:Neurokliniken Waldeck (Mehrzweckraum)\, Dr.-Friedrich-Dittmann-Weg 1 (Mehrzweckraum)\, Schwaan\, Mecklenburg-Vorpommern\, 18258\, Germany
ATTACH;FMTTYPE=image/webp:https://nw.ideen-entfalten.com/wp-content/uploads/2024/11/11_Wintermarkt_2025-e1737755447777.webp
END:VEVENT
END:VCALENDAR