BEGIN:VCALENDAR
VERSION:2.0
PRODID:-//Neurokliniken Waldeck - ECPv6.15.20//NONSGML v1.0//EN
CALSCALE:GREGORIAN
METHOD:PUBLISH
X-WR-CALNAME:Neurokliniken Waldeck
X-ORIGINAL-URL:https://nw.ideen-entfalten.com
X-WR-CALDESC:Veranstaltungen für Neurokliniken Waldeck
REFRESH-INTERVAL;VALUE=DURATION:PT1H
X-Robots-Tag:noindex
X-PUBLISHED-TTL:PT1H
BEGIN:VTIMEZONE
TZID:Europe/Berlin
BEGIN:DAYLIGHT
TZOFFSETFROM:+0100
TZOFFSETTO:+0200
TZNAME:CEST
DTSTART:20240331T010000
END:DAYLIGHT
BEGIN:STANDARD
TZOFFSETFROM:+0200
TZOFFSETTO:+0100
TZNAME:CET
DTSTART:20241027T010000
END:STANDARD
BEGIN:DAYLIGHT
TZOFFSETFROM:+0100
TZOFFSETTO:+0200
TZNAME:CEST
DTSTART:20250330T010000
END:DAYLIGHT
BEGIN:STANDARD
TZOFFSETFROM:+0200
TZOFFSETTO:+0100
TZNAME:CET
DTSTART:20251026T010000
END:STANDARD
BEGIN:DAYLIGHT
TZOFFSETFROM:+0100
TZOFFSETTO:+0200
TZNAME:CEST
DTSTART:20260329T010000
END:DAYLIGHT
BEGIN:STANDARD
TZOFFSETFROM:+0200
TZOFFSETTO:+0100
TZNAME:CET
DTSTART:20261025T010000
END:STANDARD
END:VTIMEZONE
BEGIN:VEVENT
DTSTART;TZID=Europe/Berlin:20251105T090000
DTEND;TZID=Europe/Berlin:20251105T153000
DTSTAMP:20260423T135058
CREATED:20250711T115136Z
LAST-MODIFIED:20250722T070848Z
UID:5893-1762333200-1762356600@nw.ideen-entfalten.com
SUMMARY:Sozialarbeitertreffen
DESCRIPTION:Platz sichern!					\n				\n									\n						30 Euro					\n				\n									\n					\n						Hier anmelden					\n					\n							\n							\n				\n					Anmeldung				\n			\n				\n						\n				\n									Deshalb widmen wir uns im ersten Teil unseres Sozialarbeitertreffens dem Begutachtungsverfahren durch den MD. Wie läuft die Einschätzung der Pflegebedürftigkeit ab? Welche Besonderheiten gibt es bei der Antragstellung für Sozialarbeiter:innen zu beachten\, u. a. zum Beispiel bei einer palliativen Grundsituation? Außerdem soll zusätzlich auf die Verordnung und das Genehmigungsverfahren der Außerklinischen Intensivpflege eingegangen werden. Im zweiten Teil werden Herausforderungen für ambulante Pflegedienste thematisiert und Sie erhalten Einblicke in mögliche Versorgungsstrukturen für Patientinnen und Patienten am Lebensende. Dabei geht es auch um Schnittstellen und die besondere Rolle der sozialen Arbeit im Netzwerk der Möglichkeiten palliativer Versorgung – von der Palliativstation über die ambulante Versorgung bis hin zum stationärenHospiz. Wir freuen uns auf fachlichen Input\, praxisnahe Impulse und einen kollegialen Austausch mit Ihnen. PDF-Download Flyer Sozialarbeitertreffen Anmeldeschluss25. September 2025 								\n					\n		\n					\n		\n				\n						\n					\n			\n						\n					Programminhalte				\n				\n							\n							\n											\n													\n										09:00 Uhr  Begrüßung und Kennenlernen\n									\n								\n											\n													\n										09:30 Uhr   Aufnahmeprozedere und Einweiserportal der Neurokliniken Waldeck - Funktionsoberärztinnen Tabea Stolz und Annett Schley\n									\n								\n											\n													\n										10:00 Uhr   Begutachtungsverfahren des MD - Jan Wiesener\, Leiter Team Pflege Rostock\, MD M-V\n									\n								\n											\n													\n										10:45 Uhr   Außerklinische Intensivpflege - Dr. Med. Stefanie Martius\, Leiterin Fachbereich / Weitere Begutachtungs- und Beratungsanlässe\, MD M-V\n									\n								\n											\n													\n										11.30 Uhr   Kaffeepause\n									\n								\n											\n													\n										11.45 Uhr   Herausforderungen der ambulanten Pflege - Mathias Krug\, Aktiv Pflege Service GmbH\n									\n								\n											\n													\n										12.45 Uhr   Mittagspause\n									\n								\n											\n													\n										13.30 Uhr   Möglichkeiten der palliativen Versorgung – von der Palliativstation über die ambulante Versorgung bis hin zum stationären Hospiz - Maike Bülow\, Koordinatorin Ambulanter Hospizdienst\, Hospiz am Klinikum Südstadt\n									\n								\n											\n													\n										14.30 Uhr   Kaffeepause\n									\n								\n											\n													\n										14.45 Uhr   Hilfsmittel bei Schluckstörungen in der Häuslichkeit - Karin Heinze\, leitende Logopädin Neurokliniken Waldeck\n									\n								\n											\n													\n										15.15 Uhr   bei Interesse Klinikrundgang / Abschluss\n									\n						\n						\n					\n		\n				\n			\n						\n					Zusammenarbeit mit				\n				\n									Die Deutsche Vereinigung für Soziale Arbeit im Gesundheitswesen e.V. (DVSG) ist ein sektorübergreifender Fachverband\, der dazu beiträgt\, die Soziale Arbeit in den verschiedenen Arbeitsfeldern des Gesundheitswesens zu stärken und weiterzuentwickeln. 								\n					\n		\n					\n		\n				\n						\n					\n			\n						\n					Neurokliniken Waldeck				\n				\n									Über die Neurokliniken Waldeck: Die Neurokliniken Waldeck sind seit über 110 Jahren als medizinischer Versorger in der Region Rostock sowie in Mecklenburg-Vorpommern etabliert. Sie sind auf die intensivmedizinische Versorgung von Beatmungspatienten sowie die neurologische (Früh-) Rehabilitation ausgerichtet und gehören seit 2021 zum Verbund der Recura Kliniken. Das Haus ist mit 210 Betten ausgestattet. In den Neurokliniken Waldeck sind ca. 200 Mitarbeiter:innen beschäftigt. 								\n				\n							\n\n						Hinweis zur Anmeldung\n			\n						Bitte melden Sie mehrere Teilnehmer einer Einrichtung einzeln über das Formular an. Die Anmeldung wird nur bei eingegangener Teilnahmegebühr gültig.
URL:https://nw.ideen-entfalten.com/veranstaltung/sozialarbeitertreffen/
LOCATION:Neurokliniken Waldeck (Mehrzweckraum)\, Dr.-Friedrich-Dittmann-Weg 1 (Mehrzweckraum)\, Schwaan\, Mecklenburg-Vorpommern\, 18258\, Germany
ATTACH;FMTTYPE=image/webp:https://nw.ideen-entfalten.com/wp-content/uploads/2024/09/2024_Header_Sozialdienst-e1737238680264.webp
ORGANIZER;CN="Neurokliniken Waldeck":MAILTO:info@neurokliniken-waldeck.de
END:VEVENT
END:VCALENDAR