BEGIN:VCALENDAR
VERSION:2.0
PRODID:-//Neurokliniken Waldeck - ECPv6.15.20//NONSGML v1.0//EN
CALSCALE:GREGORIAN
METHOD:PUBLISH
X-WR-CALNAME:Neurokliniken Waldeck
X-ORIGINAL-URL:https://nw.ideen-entfalten.com
X-WR-CALDESC:Veranstaltungen für Neurokliniken Waldeck
REFRESH-INTERVAL;VALUE=DURATION:PT1H
X-Robots-Tag:noindex
X-PUBLISHED-TTL:PT1H
BEGIN:VTIMEZONE
TZID:Europe/Berlin
BEGIN:DAYLIGHT
TZOFFSETFROM:+0100
TZOFFSETTO:+0200
TZNAME:CEST
DTSTART:20250330T010000
END:DAYLIGHT
BEGIN:STANDARD
TZOFFSETFROM:+0200
TZOFFSETTO:+0100
TZNAME:CET
DTSTART:20251026T010000
END:STANDARD
BEGIN:DAYLIGHT
TZOFFSETFROM:+0100
TZOFFSETTO:+0200
TZNAME:CEST
DTSTART:20260329T010000
END:DAYLIGHT
BEGIN:STANDARD
TZOFFSETFROM:+0200
TZOFFSETTO:+0100
TZNAME:CET
DTSTART:20261025T010000
END:STANDARD
BEGIN:DAYLIGHT
TZOFFSETFROM:+0100
TZOFFSETTO:+0200
TZNAME:CEST
DTSTART:20270328T010000
END:DAYLIGHT
BEGIN:STANDARD
TZOFFSETFROM:+0200
TZOFFSETTO:+0100
TZNAME:CET
DTSTART:20271031T010000
END:STANDARD
END:VTIMEZONE
BEGIN:VEVENT
DTSTART;TZID=Europe/Berlin:20260421T083000
DTEND;TZID=Europe/Berlin:20260421T153000
DTSTAMP:20260423T075611
CREATED:20251014T190046Z
LAST-MODIFIED:20251106T082212Z
UID:6653-1776760200-1776785400@nw.ideen-entfalten.com
SUMMARY:Workshop für Praxisanleitende in der Pflegeausbildung
DESCRIPTION:Platz sichern!					\n				\n									\n						130 Euro					\n				\n									\n					\n						Hier anmelden					\n					\n							\n							\n				\n					Anmeldung				\n			\n				\n						\n					\n		\n					\n		\n				\n						\n					\n			\n						\n									Themen:\n\n 	Künstliche Intelligenz in der Praxisanleitung – Chancen und Herausforderungen –\n 	Kompetenzbereiche in der generalistischen Pflegeausbildung am Praxisbeispiel Arbeits- und Lernaufgabe\n\nFortbildungspunkte werden vergeben
URL:https://nw.ideen-entfalten.com/veranstaltung/workshop-fuer-praxisanleitende/
LOCATION:Neurokliniken Waldeck (Mehrzweckraum)\, Dr.-Friedrich-Dittmann-Weg 1 (Mehrzweckraum)\, Schwaan\, Mecklenburg-Vorpommern\, 18258\, Germany
ATTACH;FMTTYPE=image/webp:https://nw.ideen-entfalten.com/wp-content/uploads/2025/10/2025-10_Praxisanleitende_Pflegeausbildung.webp
END:VEVENT
END:VCALENDAR