BEGIN:VCALENDAR
VERSION:2.0
PRODID:-//Neurokliniken Waldeck - ECPv6.15.20//NONSGML v1.0//EN
CALSCALE:GREGORIAN
METHOD:PUBLISH
X-ORIGINAL-URL:https://nw.ideen-entfalten.com
X-WR-CALDESC:Veranstaltungen für Neurokliniken Waldeck
REFRESH-INTERVAL;VALUE=DURATION:PT1H
X-Robots-Tag:noindex
X-PUBLISHED-TTL:PT1H
BEGIN:VTIMEZONE
TZID:Europe/Berlin
BEGIN:DAYLIGHT
TZOFFSETFROM:+0100
TZOFFSETTO:+0200
TZNAME:CEST
DTSTART:20240331T010000
END:DAYLIGHT
BEGIN:STANDARD
TZOFFSETFROM:+0200
TZOFFSETTO:+0100
TZNAME:CET
DTSTART:20241027T010000
END:STANDARD
BEGIN:DAYLIGHT
TZOFFSETFROM:+0100
TZOFFSETTO:+0200
TZNAME:CEST
DTSTART:20250330T010000
END:DAYLIGHT
BEGIN:STANDARD
TZOFFSETFROM:+0200
TZOFFSETTO:+0100
TZNAME:CET
DTSTART:20251026T010000
END:STANDARD
BEGIN:DAYLIGHT
TZOFFSETFROM:+0100
TZOFFSETTO:+0200
TZNAME:CEST
DTSTART:20260329T010000
END:DAYLIGHT
BEGIN:STANDARD
TZOFFSETFROM:+0200
TZOFFSETTO:+0100
TZNAME:CET
DTSTART:20261025T010000
END:STANDARD
END:VTIMEZONE
BEGIN:VEVENT
DTSTART;TZID=Europe/Berlin:20250403T083000
DTEND;TZID=Europe/Berlin:20250403T160000
DTSTAMP:20260423T221251
CREATED:20250124T205003Z
LAST-MODIFIED:20250307T095802Z
UID:10000063-1743669000-1743696000@nw.ideen-entfalten.com
SUMMARY:Workshop Trachealkanülenmanagement
DESCRIPTION:Platz sichern!					\n120 Euro\n						Hier anmelden\n				Anmeldung\n				 \nDetaillierte Krankenbeobachtung und eine engmaschige Beurteilung der Situation sind unerlässlich. Eine mögliche Fehlerquelle als Beispiel: Durch unzureichende Entblockung des Cuffs beim Wechsel auf den Phonationseinsatz mit Sprechventil kann der/die Patient:in in schwerste Atemnot geraten. Den Pflegefachkräften obliegt beim Trachealkanülenmanagement also eine hohe Verantwortung. \nProgramm\n							\n							08:30-09:00\n								Begrüßung\n								\n							09:00-09:45\n								 Vortrag: Warum ist mein Patient (noch) tracheotomiert?\n								\n							09:45-10:00\n								Kaffeepause\n								\n							10:00-10:45\n								 Vortrag: „Trachealkanülenmanagement“\n								\n							10:45-11:30\n								 Vortrag: „Dysphagie“\n								\n							11:30-12:15\n								Mittagspause\n								\n							12:15-12:35\n								 Demo Notfallmanagement: Reanimation nach Algorithmus „BLS“\n								\n							12:35-13:10\n								Notfallmanagement\n								\n							13:10-13:45\n								Pflegestandards „Tracheostomapflege“ und „Absaugen“\n								\n							13:45-14:20\n								Pflegestandard „Trachealkanülenwechsel“\n								\n							14:20-14:35\n								Kaffeepause\n								\n							14:35-15:10\n								Vorstellung TK Modelle Fa. Fahl\n								\n							15:10-15:45\n								Pflegestandard „Phonationskanülen“\n								\n							15:45-16:00\n								Feedback\, Verabschiedung und Ausgabe Zertifikate \nProgramm\nIhre grundsätzlichen Pflegeziele bei tracheotomierten Patient:innen sind\n\n\n										Intakte Wundverhältnisse am Tracheostoma\n									\n\n										Atraumatisches Sekretmanagement und physiologische Atemgasklimatisierung\n									\n\n										Vermeidung von akzidenzieller Aspiration von Speichel oder Nahrungsbestandteilen\n									\n\n										Unterstützung der langfristigen Rehabilitation durch sichere Handhabung und regelmäßige Nutzung zweiteiliger Phonationskanülen sofern möglich\n									\n\n										Bestmögliche Integration in das tägliche Leben\n									\n\nIn den Neurokliniken Waldeck behandeln und rehabilitieren wir im Frührehabereich hauptsächlich tracheotomierte Patient:innen. Unsere Ärzte und Pflegekräfte verfügen durch den täglichen Umgang mit diesen Patient:innen über umfangreichste Expertise im Trachealkanülenmanagement mit all seinen technischen Möglichkeiten und Fallstricken. Deshalb bieten wir Ihnen in unserem Workshop „Trachealkanülenmanagement“ alle wesentlichen Aspekte der Behandlungspflege und der Krankenbeobachtung bei einem tracheotomierten Menschen ohne maschinelle Beatmung. \nNach einem informativen theoretischen Teil schließt sich ein praktischer Teil an\, in dem mit praktischen Unterweisungen und Vorführungen der Umgang mit Trachealkanülen am Modell demonstriert und anschließend geübt wird. Dabei werden die Teilnehmenden den Kanülenwechsel\, die Tracheostomapflege\, den Umgang mit zweiteiligen Phonationskanülen und das Beherrschen von Komplikationen und Notfällen bei tracheotomierten Menschen unter Supervision selbst durchführen. \nÜber Ihr Interesse und den Austausch mit Ihnen freuen wir uns sehr.Dr. Annemarie Werner\, Chefärztin der Neurokliniken Waldeck \nFortbildungspunkteFür Ihre Teilnahme erhalten Sie ein Zertifikat und Fortbildungspunkte nach den Richtlinien der Registrierungsstelle beruflich Pflegender (6 Fortbildungspunkte). Für Ärzte können wir 8 Punkte der Ärztekammer M-V vergeben. \nAnmeldeschluss2. März 2025 \nNeurokliniken Waldeck\nÜber die Neurokliniken Waldeck: Die Neurokliniken Waldeck sind seit über 110 Jahren als medizinischer Versorger in der Region Rostock sowie in Mecklenburg-Vorpommern etabliert. Sie sind auf die intensivmedizinische Versorgung von Beatmungspatienten sowie die neurologische (Früh-) Rehabilitation ausgerichtet und gehören seit 2021 zum Verbund der Recura Kliniken. Das Haus ist mit 210 Betten ausgestattet. In den Neurokliniken Waldeck sind ca. 200 Mitarbeiter:innen beschäftigt. \n						Hinweis zur Anmeldung\n						Bitte beachten Sie\, dass die Anzahl der Teilnehmenden begrenzt ist. Nach Ihrer Anmeldung erhalten Sie eine Anmeldebestätigung per E-Mail\, mit dieser Bestätigung ist Ihre Anmeldung zum Seminar verbindlich. Stellen Sie daher bitte sicher\, dass Sie Ihre E-Mail-Adresse richtig angegeben haben.\nBei einer Stornierung Ihrer Anmeldung bis zu zwei Wochen vor Kursbeginn stellen wir 80 Prozent der Kursgebühr in Rechnung. \nRückblick – TK-Workshop\n					\nSchwester Elke zeigt beim Workshop der Neurokliniken Waldeck den Trachealkanülen-Wechsel an einer Lehrpuppe.\n\nNotfallmanagement ist ein wichtiges Thema\, da es beim Umgang mit Trachealkanülen immer auch um die Luftzufuhr der Patientinnen und Patienten geht. Tipps zum Notfallmanagement gibt Dr. Claudia Beltschany bei den Praxisübungen.
URL:https://nw.ideen-entfalten.com/veranstaltung/workshop-trachealkanuelenmanagement-2025-04-03/
LOCATION:Neurokliniken Waldeck (Mehrzweckraum)\, Dr.-Friedrich-Dittmann-Weg 1 (Mehrzweckraum)\, Schwaan\, Mecklenburg-Vorpommern\, 18258\, Germany
ATTACH;FMTTYPE=image/jpeg:https://nw.ideen-entfalten.com/wp-content/uploads/2022/07/2022-11_News_Weaning-e1737298014795.jpg
END:VEVENT
BEGIN:VEVENT
DTSTART;TZID=Europe/Berlin:20250227T160000
DTEND;TZID=Europe/Berlin:20250227T180000
DTSTAMP:20260423T221251
CREATED:20250117T161124Z
LAST-MODIFIED:20250124T084524Z
UID:10000001-1740672000-1740679200@nw.ideen-entfalten.com
SUMMARY:Informationsveranstaltung: Neurokliniken Waldeck suchen Grüne Damen und Herren
DESCRIPTION:Zur Unterstützung des Genesungsprozesses und um das Wohlbefinden ihrer Patient:innen zu steigern\, suchen die Neurokliniken Waldeck Helfer:innen aus der Region. \nGeschäftsführerin Yvonne Bartels hebt hervor: \n						» Wir hoffen auf Ehrenamtliche\, die Freude daran haben\, unseren Patientinnen und Patienten die Zeit ihrer Rehabilitation zu erleichtern\, indem Sie Aufmerksamkeit schenken und ihnen zuhören. Diese persönliche Zuwendung ergänzt die ärztliche und pflegerische Versorgung und bietet unseren Patient:innen mehr Möglichkeiten\, die Zeit bei uns positiver zu erleben. «					 \nDie Ehrenamtlichen können mit den Patient:innen spazieren gehen\, etwas spielen oder lesen\, sie helfen bei der Kontaktpflege zu Angehörigen\, können kleine Besorgungen erledigen und vieles mehr. Manchmal sind sie einfach nur anwesend\, halten eine Hand und schweigen. In dem überregionalen Zentrum für neurologische Rehabilitation am Stadtrand von Schwaan werden Patient:innen mit neurologischen Erkrankungen behandelt\, therapiert und rehabilitiert. Die Aufenthaltsdauer beträgt durchschnittlich drei Monate. \nDas Ehrenamt wird organisiert mit dem Netzwerk der Grünen Damen und Herren des Vereins Evangelische Kranken- und Alten-Hilfe.
URL:https://nw.ideen-entfalten.com/veranstaltung/informationsveranstaltung-neurokliniken-waldeck-suchen-gruene-damen-und-herren/
LOCATION:Neurokliniken Waldeck (Mehrzweckraum)\, Dr.-Friedrich-Dittmann-Weg 1 (Mehrzweckraum)\, Schwaan\, Mecklenburg-Vorpommern\, 18258\, Germany
ATTACH;FMTTYPE=image/webp:https://nw.ideen-entfalten.com/wp-content/uploads/2025/01/2024-12_News_grueneDame-1.webp
ORGANIZER;CN="Neurokliniken Waldeck":MAILTO:info@neurokliniken-waldeck.de
END:VEVENT
BEGIN:VEVENT
DTSTART;TZID=Europe/Berlin:20250118T110000
DTEND;TZID=Europe/Berlin:20250118T170000
DTSTAMP:20260423T221251
CREATED:20250118T103533Z
LAST-MODIFIED:20250118T135831Z
UID:10000002-1737198000-1737219600@nw.ideen-entfalten.com
SUMMARY:Neurokliniken laden zum 2. Wintermarkt ein
DESCRIPTION:Angesprochen sind Familien und Besucher:innen außerhalb der Klinik sowie Mitarbeitende und Patient:innen mit ihren Angehörigen. Für alle wird etwas geboten. So gibt es an den Verkaufsständen unter anderem Trockenblumenkränze\, Dekoartikel\, Schmuck\, Kräuter sowie Kindersachen und Accessoires. Für die kleinen Besucher werden zudem Mitmach-Aktionen geboten wie zum Beispiel Beutel bemalen\, Bernstein schleifen und Schmuck herstellen. Nicht nur für die jungen\, sondern sicher auch für die älteren Semester interessant ist die Modelleisenbahn\, die ihre Runden durch die Klinik fahren wird. \nZu den Programmhöhepunkten des 2. Wintermarktes gehören um 12 Uhr das clowneske Circus-Theater für die ganze Familie von FloraFabula\, um 14 Uhr die Präsentation der Waldecker Theatergruppe und um 16 Uhr der heitere Auftritt des Schwaaner Carnevalsvereins. \nZur Stärkung zwischendurch gibt es Glühwein und Deftiges mit Nudelvariationen von der Pastamanufaktur sowie Gulaschsuppe und Gegrilltes vom Klinik-Küchenchef Ingo. Für Naschkatzen werden Kuchen\, Crépes\, Slush-Eis und Co. serviert. \nDer Eintritt ist frei. Parkplätze stehen kostenfrei auf dem Klinikgelände zur Verfügung. Termin: 2. Wintermarkt der Neurokliniken Waldeck am Sonnabend\, 18. Januar 2024\, von 11.00 bis 17.00 Uhr.
URL:https://nw.ideen-entfalten.com/veranstaltung/neurokliniken-laden-zum-2-wintermarkt-ein/
LOCATION:Neurokliniken Waldeck\, Dr.-Friedrich-Dittmann-Weg 1\, Schwaan\, Mecklenburg-Vorpommern\, 18258\, Germany
ATTACH;FMTTYPE=image/webp:https://nw.ideen-entfalten.com/wp-content/uploads/2024/11/11_Wintermarkt_2025-e1737755447777.webp
END:VEVENT
BEGIN:VEVENT
DTSTART;TZID=Europe/Berlin:20250115T150000
DTEND;TZID=Europe/Berlin:20250115T160000
DTSTAMP:20260423T221251
CREATED:20250118T170504Z
LAST-MODIFIED:20250118T173520Z
UID:10000008-1736953200-1736956800@nw.ideen-entfalten.com
SUMMARY:Autofahren nach neurolog. Erkrankungen (Neuropsychologie)
DESCRIPTION:
URL:https://nw.ideen-entfalten.com/veranstaltung/autofahren-nach-neurolog-erkrankungen-neuropsychologie/
LOCATION:Neurokliniken Waldeck (Mehrzweckraum)\, Dr.-Friedrich-Dittmann-Weg 1 (Mehrzweckraum)\, Schwaan\, Mecklenburg-Vorpommern\, 18258\, Germany
ATTACH;FMTTYPE=image/jpeg:https://nw.ideen-entfalten.com/wp-content/uploads/2023/01/©-eshana_blue_AdobeStock_autofahren-e1737219868933.jpg
ORGANIZER;CN="Neurokliniken Waldeck":MAILTO:info@neurokliniken-waldeck.de
END:VEVENT
END:VCALENDAR