BEGIN:VCALENDAR
VERSION:2.0
PRODID:-//Neurokliniken Waldeck - ECPv6.15.20//NONSGML v1.0//EN
CALSCALE:GREGORIAN
METHOD:PUBLISH
X-ORIGINAL-URL:https://nw.ideen-entfalten.com
X-WR-CALDESC:Veranstaltungen für Neurokliniken Waldeck
REFRESH-INTERVAL;VALUE=DURATION:PT1H
X-Robots-Tag:noindex
X-PUBLISHED-TTL:PT1H
BEGIN:VTIMEZONE
TZID:Europe/Berlin
BEGIN:DAYLIGHT
TZOFFSETFROM:+0100
TZOFFSETTO:+0200
TZNAME:CEST
DTSTART:20250330T010000
END:DAYLIGHT
BEGIN:STANDARD
TZOFFSETFROM:+0200
TZOFFSETTO:+0100
TZNAME:CET
DTSTART:20251026T010000
END:STANDARD
BEGIN:DAYLIGHT
TZOFFSETFROM:+0100
TZOFFSETTO:+0200
TZNAME:CEST
DTSTART:20260329T010000
END:DAYLIGHT
BEGIN:STANDARD
TZOFFSETFROM:+0200
TZOFFSETTO:+0100
TZNAME:CET
DTSTART:20261025T010000
END:STANDARD
BEGIN:DAYLIGHT
TZOFFSETFROM:+0100
TZOFFSETTO:+0200
TZNAME:CEST
DTSTART:20270328T010000
END:DAYLIGHT
BEGIN:STANDARD
TZOFFSETFROM:+0200
TZOFFSETTO:+0100
TZNAME:CET
DTSTART:20271031T010000
END:STANDARD
END:VTIMEZONE
BEGIN:VEVENT
DTSTART;TZID=Europe/Berlin:20260423T100000
DTEND;TZID=Europe/Berlin:20260423T140000
DTSTAMP:20260423T045427
CREATED:20260205T145249Z
LAST-MODIFIED:20260205T222641Z
UID:10000050-1776938400-1776952800@nw.ideen-entfalten.com
SUMMARY:Boys’ Day
DESCRIPTION:Platz sichern!					\n				\n									\n						100 Euro (inkl. Verpflegung in den Pausen)					\n				\n									\n					\n						Hier anmelden					\n					\n							\n							\n				\n					Anmeldung				\n			\n				\n						\n				\n									Ziel einer Pflegekraft ist es\, die Entstehung von Druckschädigungen und eines Dekubitus zu verhindern und bereits bestehende Druckschädigungen fachgerecht zu therapieren. Die Einschätzung des individuellen Dekubitusrisikos muss daher bei allen Patient:innen direkt am Aufnahmetag erfolgen. Bereits bestehende Wunden sind sofort zu dokumentieren und zu klassifizieren\, idealerweise mittels Fotodokumentation. Um das Dekubitusrisiko zu ermitteln\, wird eine Pflegeanamnese erhoben und die Patient:innen auf begünstigende Faktoren hin untersucht. Unabhängig davon\, ob Sie Wundmentoren oder Wundschwestern zu Ihren Pflegeteams zählen\, so ist das Wissen um das Thema Dekubitus für jede Pflegefachkraft essentiell.Mit unserer Fortbildung “Dekubitusmanagement” wollen wir für das Thema sensibilisieren und Ihnen weitere Hilfsmittel an die Hand geben\, die Sie in ihrer täglichen Arbeit an den Patient:innen nutzen können. Über Ihr Interesse und den Austausch mit Ihnen freuen wir uns sehr. 								\n					\n		\n					\n		\n				\n						\n					\n			\n						\n					Programminhalte				\n				\n							\n							\n											\n													\n										Expertenstandards\n									\n								\n											\n													\n										Dekubitus erkennen\n									\n								\n											\n													\n										Anatomie der Haut\n									\n								\n											\n													\n										Gradeinteilung Dekubitus\n									\n								\n											\n													\n										juristischer Hintergrund\n									\n								\n											\n													\n										Risikoerfassung\n									\n								\n											\n													\n										Therapiemöglichkeiten (z.B. Vakuumtherapie)\n									\n								\n											\n													\n										Lagerung\n									\n								\n											\n													\n										Überblick Hilfsmittel\n									\n						\n						\n					\n		\n				\n			\n						\n					Fortbildungspunkte				\n				\n									Für Ihre Teilnahme erhalten Sie ein Zertifikat und sechs Fortbildungspunkte nach den Richtlinien der Registrierungsstelle beruflich Pflegender. Unsere Fortbildung ist in theoretische Einheiten und praktische Übungen unterteilt. 								\n					\n		\n					\n		\n				\n						\n					\n			\n						\n									Anmeldeschluss:19. Oktober 2026
URL:https://nw.ideen-entfalten.com/veranstaltung/boys-day/
LOCATION:Neurokliniken Waldeck (Mehrzweckraum)\, Dr.-Friedrich-Dittmann-Weg 1 (Mehrzweckraum)\, Schwaan\, Mecklenburg-Vorpommern\, 18258\, Germany
ATTACH;FMTTYPE=image/jpeg:https://nw.ideen-entfalten.com/wp-content/uploads/2023/02/2023-02-VERANSTALTUNG_Boys-e1737298354581.jpg
ORGANIZER;CN="Neurokliniken Waldeck":MAILTO:info@neurokliniken-waldeck.de
END:VEVENT
BEGIN:VEVENT
DTSTART;TZID=Europe/Berlin:20260429T150000
DTEND;TZID=Europe/Berlin:20260429T160000
DTSTAMP:20260423T045427
CREATED:20250710T215750Z
LAST-MODIFIED:20260209T133854Z
UID:10000089-1777474800-1777478400@nw.ideen-entfalten.com
SUMMARY:Beratung zur Vorsorgevollmacht  (Sozialdienst)
DESCRIPTION:Platz sichern!					\n				\n									\n						100 Euro (inkl. Verpflegung in den Pausen)					\n				\n									\n					\n						Hier anmelden					\n					\n							\n							\n				\n					Anmeldung				\n			\n				\n						\n				\n									Ziel einer Pflegekraft ist es\, die Entstehung von Druckschädigungen und eines Dekubitus zu verhindern und bereits bestehende Druckschädigungen fachgerecht zu therapieren. Die Einschätzung des individuellen Dekubitusrisikos muss daher bei allen Patient:innen direkt am Aufnahmetag erfolgen. Bereits bestehende Wunden sind sofort zu dokumentieren und zu klassifizieren\, idealerweise mittels Fotodokumentation. Um das Dekubitusrisiko zu ermitteln\, wird eine Pflegeanamnese erhoben und die Patient:innen auf begünstigende Faktoren hin untersucht. Unabhängig davon\, ob Sie Wundmentoren oder Wundschwestern zu Ihren Pflegeteams zählen\, so ist das Wissen um das Thema Dekubitus für jede Pflegefachkraft essentiell.Mit unserer Fortbildung “Dekubitusmanagement” wollen wir für das Thema sensibilisieren und Ihnen weitere Hilfsmittel an die Hand geben\, die Sie in ihrer täglichen Arbeit an den Patient:innen nutzen können. Über Ihr Interesse und den Austausch mit Ihnen freuen wir uns sehr. 								\n					\n		\n					\n		\n				\n						\n					\n			\n						\n					Programminhalte				\n				\n							\n							\n											\n													\n										Expertenstandards\n									\n								\n											\n													\n										Dekubitus erkennen\n									\n								\n											\n													\n										Anatomie der Haut\n									\n								\n											\n													\n										Gradeinteilung Dekubitus\n									\n								\n											\n													\n										juristischer Hintergrund\n									\n								\n											\n													\n										Risikoerfassung\n									\n								\n											\n													\n										Therapiemöglichkeiten (z.B. Vakuumtherapie)\n									\n								\n											\n													\n										Lagerung\n									\n								\n											\n													\n										Überblick Hilfsmittel\n									\n						\n						\n					\n		\n				\n			\n						\n					Fortbildungspunkte				\n				\n									Für Ihre Teilnahme erhalten Sie ein Zertifikat und sechs Fortbildungspunkte nach den Richtlinien der Registrierungsstelle beruflich Pflegender. Unsere Fortbildung ist in theoretische Einheiten und praktische Übungen unterteilt. 								\n					\n		\n					\n		\n				\n						\n					\n			\n						\n									Anmeldeschluss:19. Oktober 2026
URL:https://nw.ideen-entfalten.com/veranstaltung/beratung-zur-vorsorgevollmacht-sozialdienst/
LOCATION:Neurokliniken Waldeck (Mehrzweckraum)\, Dr.-Friedrich-Dittmann-Weg 1 (Mehrzweckraum)\, Schwaan\, Mecklenburg-Vorpommern\, 18258\, Germany
ATTACH;FMTTYPE=image/webp:https://nw.ideen-entfalten.com/wp-content/uploads/2024/09/2024_Header_Sozialdienst-e1737238680264.webp
ORGANIZER;CN="Neurokliniken Waldeck":MAILTO:info@neurokliniken-waldeck.de
END:VEVENT
END:VCALENDAR